BEGIN:VCALENDAR
VERSION:2.0
PRODID:-//Dr. Plastic Picker - ECPv6.0.9//NONSGML v1.0//EN
CALSCALE:GREGORIAN
METHOD:PUBLISH
X-WR-CALNAME:Dr. Plastic Picker
X-ORIGINAL-URL:https://drplasticpicker.com
X-WR-CALDESC:Events for Dr. Plastic Picker
REFRESH-INTERVAL;VALUE=DURATION:PT1H
X-Robots-Tag:noindex
X-PUBLISHED-TTL:PT1H
BEGIN:VTIMEZONE
TZID:UTC
BEGIN:STANDARD
TZOFFSETFROM:+0000
TZOFFSETTO:+0000
TZNAME:UTC
DTSTART:20190101T000000
END:STANDARD
END:VTIMEZONE
BEGIN:VEVENT
DTSTART;TZID=UTC:20210630T133000
DTEND;TZID=UTC:20210630T143000
DTSTAMP:20260424T090215
CREATED:20210502T134059Z
LAST-MODIFIED:20210506T111523Z
UID:9705-1625059800-1625063400@drplasticpicker.com
SUMMARY:Journal Club: Climate Change and Air Pollution
DESCRIPTION:Joint Journal Club Kaiser Peds\, Rady’s UCSD residency\, and AAP-CA3 Climate Change and Health on Climate Change and Air Pollution.  Guest Speakers the Famous Dr. Perry Sheffield (Mt Sinai\, AAP Council of Environmental Health) and Christine James MD (UCSD Allergy).  Organized by  Jennifer Chen MD (Kaiser Peds) and Laisha Felix (SDPCA Premed Intern).
URL:https://drplasticpicker.com/event/journal-club-climate-change-and-air-pollution/
END:VEVENT
BEGIN:VEVENT
DTSTART;TZID=UTC:20210525T140000
DTEND;TZID=UTC:20210525T153000
DTSTAMP:20260424T090215
CREATED:20210420T231405Z
LAST-MODIFIED:20210420T231405Z
UID:9605-1621951200-1621956600@drplasticpicker.com
SUMMARY:San Diego County Department of Environmental Health and Quality Meeting
DESCRIPTION:The County of San Diego\, Department of Environmental Health and Quality (DEHQ) implements more than 40 programs and is committed to environmental justice as we conduct inspections\, compliance monitoring\, and enforce environmental laws and regulations. Each program we implement helps improve public health and/or environmental quality in our communities. \nDEHQ is interested in learning more about your organization to determine how we can partner to better serve our communities and invites you to participate in a small group session where DEHQ will share information about the department’s programs and listen to how your organization impacts our communities \nMeeting to represent AAP-San Diego Climate Change and Health
URL:https://drplasticpicker.com/event/san-diego-county-department-of-environmental-health-and-quality-meeting/
END:VEVENT
BEGIN:VEVENT
DTSTART;VALUE=DATE:20210521
DTEND;VALUE=DATE:20210526
DTSTAMP:20260424T090215
CREATED:20210417T123707Z
LAST-MODIFIED:20210417T123707Z
UID:9554-1621555200-1621987199@drplasticpicker.com
SUMMARY:Medical Society Consortium for Cliamte and Health
DESCRIPTION:Will attend from team from Kaiser San Diego\, Dr. RA\, UCSD SOM student MG\, and sponsored students from Sustainable Pharmacy Projects at VCU https://medsocietiesforclimatehealth.org/annual-meeting/annual-meeting-2021/
URL:https://drplasticpicker.com/event/medical-society-consortium-for-cliamte-and-health/
END:VEVENT
BEGIN:VEVENT
DTSTART;TZID=UTC:20210512T080000
DTEND;TZID=UTC:20210512T083000
DTSTAMP:20260424T090215
CREATED:20210420T231816Z
LAST-MODIFIED:20210420T231816Z
UID:9607-1620806400-1620808200@drplasticpicker.com
SUMMARY:Children At Risk: "Kids and the Environmental Round-Table Discussion"
DESCRIPTION:The roundtable will feature CEO\, Dr. Bob Sanborn\, the guest editors: Dr. Susan Pacheco & Dr. Ruth Etzel\, along with the Editor-In-Chief\, Dr. Chris Greely. The roundtable will highlight select authors from the issue to briefly discuss their articles and its policy implications.  They would like to include and feature the “common sense advice from 4 community pediatricians” from your pending article. We would highlight it in our press release for the roundtable and during the event itself.
URL:https://drplasticpicker.com/event/children-at-risk-kids-and-the-environmental-round-table-discussion/
END:VEVENT
BEGIN:VEVENT
DTSTART;TZID=UTC:20210422T123000
DTEND;TZID=UTC:20210422T133000
DTSTAMP:20260424T090215
CREATED:20210406T113941Z
LAST-MODIFIED:20210417T114906Z
UID:9460-1619094600-1619098200@drplasticpicker.com
SUMMARY:UCSD School of Medicine
DESCRIPTION:Invited Lunch-Time speaker at Civic Engagement student organization at UCSD SOM
URL:https://drplasticpicker.com/event/9460/
END:VEVENT
BEGIN:VEVENT
DTSTART;TZID=UTC:20210417T100000
DTEND;TZID=UTC:20210417T110000
DTSTAMP:20260424T090215
CREATED:20210116T141254Z
LAST-MODIFIED:20210116T141254Z
UID:8600-1618653600-1618657200@drplasticpicker.com
SUMMARY:AAP Oregon Climate Advocacy Conference: Guest Panelist
DESCRIPTION:Saturday\, April 17\, “Keeping Kids Healthy Outside\,” which will focus on the impacts of climate change on kids\, as well as how to better support kids in accessing nature. As part of the conference\, we plan to host a moderated discussion about climate advocacy. Invited to participate on panel discussion.
URL:https://drplasticpicker.com/event/aap-oregon-climate-advocacy-conference-guest-panelist/
END:VEVENT
BEGIN:VEVENT
DTSTART;TZID=UTC:20210415T200000
DTEND;TZID=UTC:20210415T210000
DTSTAMP:20260424T090215
CREATED:20210406T112743Z
LAST-MODIFIED:20210406T112743Z
UID:9458-1618516800-1618520400@drplasticpicker.com
SUMMARY:
DESCRIPTION:UC Berkeley AMSA Environmental Justice Panel\nDate: Thursday April 15\, 2021 from 8pm to 9pm PST (we start on “Berkeley Time”\, which is 10 minutes after the posted time\, so 8:10pm)\nDescription: This week\, we will host a panel with physicians who are passionate about climate change and environmental justice advocacy. We will talk about the role of the physician in the context of public health and public policy\, as well as our responsibilities as healthcare professionals outside of our job in the hospital. What are the effects of climate change on health\, and why is it important to address via legislation?
URL:https://drplasticpicker.com/event/9458/
END:VEVENT
BEGIN:VEVENT
DTSTART;TZID=UTC:20210411T080000
DTEND;TZID=UTC:20210413T170000
DTSTAMP:20260424T090215
CREATED:20210210T143746Z
LAST-MODIFIED:20210210T145857Z
UID:8906-1618128000-1618333200@drplasticpicker.com
SUMMARY:AAP National Legislative Conference
DESCRIPTION:Invited to attend as the AAP-CA3 Climate Advocate. Funded by district office.
URL:https://drplasticpicker.com/event/aap-national-legislative-conference/
END:VEVENT
BEGIN:VEVENT
DTSTART;TZID=UTC:20210305T180000
DTEND;TZID=UTC:20210305T190000
DTSTAMP:20260424T090215
CREATED:20210115T141728Z
LAST-MODIFIED:20210124T130254Z
UID:8589-1614967200-1614970800@drplasticpicker.com
SUMMARY:"Gather" Film Screening and Discussion with Chef Nephi
DESCRIPTION:GATHER was featured in the New York Times and a critically acclaimed film on Indigenous Food Systems and Indigenous Food Rights. It explores the connections between restoring ecosystems and food systems. We are proud a free virtual film screening of Gather\, and panel discussion with Chef Nephi Craig (Western Apache Nation and professional chef) and our own Dr. Dana Patton (Pediatric GI) and Dr. William Pfeiffer. Target audience is primarily the AAP-CA3\, Kaiser SD Peds Department\, and San Diego Area Pediatricians\, but we will have room for some interested in our medical group outside of pediatrics. This is funded by a generous grant from AAP-CA3 San Diego. You will be emailed a link to view the movie for free\, and panel discussion for CME will be on March 5\, 6pm. Please comment below or email Mr. Hakim Tokhi to RSVP AAPCHILDRENSARTCOUNCIL@GMAIL.COM
URL:https://drplasticpicker.com/event/gather-film-screening-and-discussion-with-chef-nephi/
END:VEVENT
BEGIN:VEVENT
DTSTART;VALUE=DATE:20210226
DTEND;VALUE=DATE:20210227
DTSTAMP:20260424T090215
CREATED:20210217T145204Z
LAST-MODIFIED:20210217T145204Z
UID:8983-1614297600-1614383999@drplasticpicker.com
SUMMARY:SHOUT OUT SOCAL INTERVIEW
DESCRIPTION:Interview and profile with SHOUT OUT SOCAL. Coming up. Agreed to give more publicity and exposure to the climate and health movement. Date to be determined. In email conversation with the editor.
URL:https://drplasticpicker.com/event/shout-out-socal-interview/
END:VEVENT
BEGIN:VEVENT
DTSTART;TZID=UTC:20210203T140000
DTEND;TZID=UTC:20210203T150000
DTSTAMP:20260424T090215
CREATED:20201229T165727Z
LAST-MODIFIED:20210108T144839Z
UID:8365-1612360800-1612364400@drplasticpicker.com
SUMMARY:UCSD Family Practice Grand Rounds: Climate Advocacy and Creativity
DESCRIPTION:Grand Round with Dr. Andrei Fodoreanu regarding Climate Advocacy and Creativity.  Environmental Advocacy as part of physician wellness.
URL:https://drplasticpicker.com/event/ucsd-family-practice-residency-climate-advocacy-talk/
END:VEVENT
BEGIN:VEVENT
DTSTART;TZID=UTC:20210131T080000
DTEND;TZID=UTC:20210131T170000
DTSTAMP:20260424T090215
CREATED:20210105T135205Z
LAST-MODIFIED:20210105T135411Z
UID:8466-1612080000-1612112400@drplasticpicker.com
SUMMARY:Medical Society Consortium on Climate & Health Interview
DESCRIPTION:Medical Society Consortium on Climate & Health. Interview as the Climate Champion for the Consortium for the month of January.
URL:https://drplasticpicker.com/event/medical-society-consortium-on-climate-health-interview/
END:VEVENT
BEGIN:VEVENT
DTSTART;TZID=UTC:20201226T133000
DTEND;TZID=UTC:20201226T143000
DTSTAMP:20260424T090215
CREATED:20201005T112843Z
LAST-MODIFIED:20201005T112843Z
UID:7157-1608989400-1608993000@drplasticpicker.com
SUMMARY:KevinMD PODCAST Interview
DESCRIPTION:Yes I’m putting it out there for the earth.  I have had three or four articles published on KevinMD. In general the resposne from people I know has been positive and some of the non-environmental pieces have been well received.  But KevinMD is such a popular site that I believe there are trolls on it.  I’ve been mocked on his comments section mutliple times.  But with a 500\,000 readership\, it’s an audience that is worth it to try to reach.  Anyway\, Kevin Pho himself I heard is a very nice person.  He invited me to be interviewed for a Podcast.  By then\, my hair should be beautiful with my new apple-cider vinegar conditioner rinse project and switching over to Hi-Bar Shampoo (which is bar shampoo and no palm oil and no plastic packaging) from Sustainable Republic Shop (my friend and favorite on-line zero-waste shop).  I have a lot of lectures and talks coming up\, so I couldn’t do the interview right away.  It is scheduled for the day after Christmas\, prime family time.  Yes\, that is how important the planet is to me.
URL:https://drplasticpicker.com/event/kevinmd-podcast-interview/
END:VEVENT
BEGIN:VEVENT
DTSTART;TZID=UTC:20201210T123000
DTEND;TZID=UTC:20201210T133000
DTSTAMP:20260424T090215
CREATED:20200912T221845Z
LAST-MODIFIED:20201204T130059Z
UID:6880-1607603400-1607607000@drplasticpicker.com
SUMMARY:UCSD Rady's Resident Conference Lecture
DESCRIPTION:Lecture will be delivered by Dr. Sally Kaufman.
URL:https://drplasticpicker.com/event/ucsd-radys-resident-conference-lecture/
END:VEVENT
BEGIN:VEVENT
DTSTART;TZID=UTC:20201206T100000
DTEND;TZID=UTC:20201206T120000
DTSTAMP:20260424T090215
CREATED:20201123T114931Z
LAST-MODIFIED:20201123T114931Z
UID:7809-1607248800-1607256000@drplasticpicker.com
SUMMARY:UC Berkeley Premed Honor Society - MD Panel
DESCRIPTION:This event is geared towards connecting undergraduate pre-health students with physicians and health care professionals\, including healthcare administrative professionals. It will be similar to a Q&A panel\, but there will be other professionals to answer questions.  \nThe general plan is as follows\, but may change as we will try to be flexible on the day of the panel:\n10am to 10:10am — introductions\, casual conversation\n10:10am — official panel begins (Berkeley time!) \n10:10am – 10:50am — general Q&A session/panel\n10:50am – 11:50am — breakout groups; smaller groups where students can get to know you better and ask more specific questions; we will be rotating physicians/panelists every 15 minutes!\n11:50am- 12:00pm — end of panel\, final remarks\, exchange contact info (if you are interested!)
URL:https://drplasticpicker.com/event/uc-berkeley-premed-honor-society-md-panel/
END:VEVENT
BEGIN:VEVENT
DTSTART;TZID=UTC:20201124T183000
DTEND;TZID=UTC:20201124T193000
DTSTAMP:20260424T090215
CREATED:20201114T143950Z
LAST-MODIFIED:20201114T143950Z
UID:7680-1606242600-1606246200@drplasticpicker.com
SUMMARY:AAP-CA3 Climate Change and Health Intern and General Committee Meeting
DESCRIPTION:From our Premed Intern Hakim\,\n“I hope everything is going well for all of you.  We’ve scheduled a meeting for the committee on Tuesday 11/24. There will be a 30-minute intern meeting from 6:30 to 7 pm\, and then the whole committee will get together from 7 to 7:30 pm. I’ve attached the link to this email\, and I will send an email reminder a day before. We hope you can all make it!\n\nThanks!\nHakim (Premed Intern) – send an email to drplasticpicker@gmail.com if you need the meeting link again or if you know Hakim in real life email him!\n\n\n\nTopic: AAP-3 Climate Change and Health Committee\nTime: Nov 24\, 2020 06:30 PM Pacific Time (US and Canada)
URL:https://drplasticpicker.com/event/aap-ca3-climate-change-and-health-intern-and-general-committee-meeting/
END:VEVENT
BEGIN:VEVENT
DTSTART;TZID=UTC:20201118T123000
DTEND;TZID=UTC:20201118T143000
DTSTAMP:20260424T090215
CREATED:20201005T122918Z
LAST-MODIFIED:20201005T122918Z
UID:7159-1605702600-1605709800@drplasticpicker.com
SUMMARY:Journal Club: Plant Based Diets in Children
DESCRIPTION:For our next virtual journal club\, we will be collaborating with the AAP Climate Change and Health Committee to host a discussion on plant-based diets in children. This wonderful topic was proposed by the incomparable Vi Nguyen aka drplasticpicker. We will be joined by Dr. Angie Nieson\, who practices Culinary Medicine (how cool is that!) in San Diego\, as well as our very own Pediatric GI specialist\, Dr. Dana Patton-Ku. Our amazing AAP Climate Change and Health Premed Intern\, Ashley Teo\, will also be helping to organize the journal club/panel discussion. \nPediatric Journal Club – Plant Based Diets in Children with Dr. Angie Nieson and Dr. Dana Patton-Ku (2 hours CME credit) \nSponsored by the AAP Climate Change and Health Committee \nLocation: Online via Microsoft Teams (Invite to be sent out later) \nDate: Wednesday November 18\, 2020 \nTime: 12:30-2:30pm \nArticles: \n\nRenda M\, Fischer P. Vegetarian Diets in Children and Adolescents. Pediatrics in Review 2009.\nMascarenhas M. Pediatric Anti-Inflammatory Diet. Pediatric Annals 2019.\nLeite et al. Healthy low nitrogen footprint diets. Global Food Security 2020.\n\nPlease RSVP by replying to me (Jennifer.C.Chen@kp.org) so that I can send you an invite on Microsoft Teams later.  \nRemember this is a completely optional event. But will be a fun and exciting opportunity to meet and engage with fellow planetary health advocates!
URL:https://drplasticpicker.com/event/journal-club-plant-based-diets-in-children/
END:VEVENT
BEGIN:VEVENT
DTSTART;TZID=UTC:20201105T150000
DTEND;TZID=UTC:20201105T170000
DTSTAMP:20260424T090215
CREATED:20200912T221618Z
LAST-MODIFIED:20200912T221618Z
UID:6878-1604588400-1604595600@drplasticpicker.com
SUMMARY:UCSD PRIME HEQ MS1 Lecture
DESCRIPTION:Invited to give a lecture on environmental health at UCSD School of Medicine PRIME HEQ Program.  Speaking as the founder of San Diego Physicians for Clean Air and advocacy for pediatric health and clean air.  Will prepare and deliver talk with our Student Co-Founder.
URL:https://drplasticpicker.com/event/ucsd-prime-heq-ms1-lecture/
END:VEVENT
BEGIN:VEVENT
DTSTART;TZID=UTC:20201027T120000
DTEND;TZID=UTC:20201027T130000
DTSTAMP:20260424T090215
CREATED:20200912T221320Z
LAST-MODIFIED:20200913T141013Z
UID:6876-1603800000-1603803600@drplasticpicker.com
SUMMARY:Guest Speaker at University of Virginia School of Pharmacy\, Sustainability Healthcare Project
DESCRIPTION:Sustainability Healthcare Project invites Dr. Plastic Picker to speak about my journey! I am so honored! They want to hear about my eco-avatar!
URL:https://drplasticpicker.com/event/6876/
END:VEVENT
BEGIN:VEVENT
DTSTART;TZID=UTC:20200728T183000
DTEND;TZID=UTC:20200728T193000
DTSTAMP:20260424T090215
CREATED:20200717T130904Z
LAST-MODIFIED:20200717T130904Z
UID:5974-1595961000-1595964600@drplasticpicker.com
SUMMARY:AAP-CA3 Climate Change and Health Committee Meeting
DESCRIPTION:We are having our first AAP-CA3 Climate Change & Health Committee Meeting. 630-7pm will be for our interns\, committee chairs and those helping with the Youth Art’s Council and Exhibition.  7-730pm will be for the general committee.  If you are interested\, please email me at drplasticpicker@gmail and I can forward you the Zoom invite.
URL:https://drplasticpicker.com/event/aap-ca3-climate-change-and-health-committee-meeting/
END:VEVENT
BEGIN:VEVENT
DTSTART;TZID=UTC:20200519T080000
DTEND;TZID=UTC:20200630T170000
DTSTAMP:20260424T090215
CREATED:20200519T225731Z
LAST-MODIFIED:20200519T225731Z
UID:4379-1589875200-1593536400@drplasticpicker.com
SUMMARY:Public Health Sign On Letter Regarding Oil & Gas Drilling: Letter to CalGEM (California Geologic Energy Management Division)
DESCRIPTION:Please see the letter to California Geologic Energy Management Division\, and consider signing as an individual California Public Health Care Worker.  “We the undersigned ask CalGEM to take preventive action to protect public health given the substantial and growing body of epidemiologic and toxicologic evidence about the negative health effects of oil and gas drilling.”  The letter is addressed to CalGEM\, the agency that oversees oil and gas\, and outlines the health impacts of oil and gas drilling on fence line communities and also the health impacts of climate change\, the downstream result of oil and gas extraction.  Please feel free to click on the link to sign the  letter
URL:https://drplasticpicker.com/event/public-health-sign-on-letter-regarding-oil-gas-drilling-letter-to-calgem-california-geologic-energy-management-division/
END:VEVENT
BEGIN:VEVENT
DTSTART;TZID=UTC:20200317T080000
DTEND;TZID=UTC:20200531T170000
DTSTAMP:20260424T090215
CREATED:20200317T135720Z
LAST-MODIFIED:20200317T140041Z
UID:3431-1584432000-1590944400@drplasticpicker.com
SUMMARY:5 to 12-Year-olds: Dr. Plastic Picker is Calling for Your Trash Art!
DESCRIPTION:Hello Junior Dr. Plastic Pickers!  It is not safe right now to do litter picking outside\, but at home you likely have a lot of “clean plastic trash.” Hopefully you have a glue gun! Under the supervision of an adult\, Dr. Plastic Picker is interested in your Trash Art!  Our blog is looking for submissions of 2-3 images of your Trash Art that you can make while being quarantined at home.  Sent a picture and our blog will create a collage.  When the quaratining is over\, we can try to submit it as a group submission to the Del Mar Fair.  Looking for at least 10 entries! Please submit via Instagram message or drplasticpicker@gmail.com.
URL:https://drplasticpicker.com/event/5-to-12-year-olds-dr-plastic-picker-is-calling-for-your-trash-art/
END:VEVENT
BEGIN:VEVENT
DTSTART;TZID=UTC:20200206T080000
DTEND;TZID=UTC:20200331T170000
DTSTAMP:20260424T090215
CREATED:20200206T123303Z
LAST-MODIFIED:20200317T134539Z
UID:2738-1580976000-1585674000@drplasticpicker.com
SUMMARY:Monarch and Pollinator Act of 2019: HELP SIGN NWF PETITION
DESCRIPTION:Dr. Plastic Picker also started circulating a National Wildlife Foundation petition for the Monarch and Pollinator Highwat Act of 2019 that would require “the Secretary of Transportation to establish a program to provide grants to carry out activities to benefit pollinators on roadsides and highway rights-of-way\, including the planting and seeding of native\, locally-appropriate grasses and wildflowers\, including milkweed\, and for other purposes.” https://support.nwfactionfund.org/page/15908/donate/1?en_chan=fb&locale=en-US&ea.tracking.id=FBK_NWFAF&en_ref=31542314&fbclid=IwAR1439hxtZeN97rxY62IdIb5mtL1qPW3XwKSUdwtrs6SRC0VbnwqNANgDz8 This make a lot of sense\, and that petition is at 9123/10000 signatures. Our goal is to help NWF get another 100 signatures.  Let me know here as a comment if you signed\, and are interested in our futher Monarch Butterfly Projects.  We are going to try to collect milkweed seeds and distribute\, and then have a group planting at a friend’s house.
URL:https://drplasticpicker.com/event/monarch-and-pollinator-act-of-2019-help-sign-nwf-petition/
END:VEVENT
BEGIN:VEVENT
DTSTART;TZID=UTC:20200202T073000
DTEND;TZID=UTC:20200202T090000
DTSTAMP:20260424T090215
CREATED:20191127T130731Z
LAST-MODIFIED:20191127T130731Z
UID:1143-1580628600-1580634000@drplasticpicker.com
SUMMARY:Sunday\, Feb 2:  Imperial Beach Pier Cleaning with drplasticpicker and I Love A Clean San Diego
DESCRIPTION:Hello drplasticpicker friends and my office friends in real life! We are having our 2nd Office Beach Cleaning at Imperial Beach Pier. There will be simple but filling breakfast afterwards. Children welcome and I can sign off on community service hours as well.  Let me know at the office or email me at drplasticpicker@gmail.com if you are planning on coming. We can accommodate last minute folks but I need a rough head count for food and also if we have more than 25\, I Love A Clean San Diego will need to let the San Diego Police now.  Just bring yourselves. I’ll have supplies from ILCSD and waiver forms on site. Sunscreen\, hat and reusable water bottle please! Children must have an adult with them.
URL:https://drplasticpicker.com/event/sunday-feb-2-imperial-beach-pier-cleaning-with-drplasticpicker-and-i-love-a-clean-san-diego/
LOCATION:Imperial Beach Pier
END:VEVENT
BEGIN:VEVENT
DTSTART;TZID=UTC:20191210T080000
DTEND;TZID=UTC:20191221T170000
DTSTAMP:20260424T090215
CREATED:20191210T131345Z
LAST-MODIFIED:20191210T131345Z
UID:1514-1575964800-1576947600@drplasticpicker.com
SUMMARY:Donate Your Old Prescription Glasses and Sunglasses
DESCRIPTION:Please drop off any old prescription glasses or sunglasses. Our blog is collecting them and will send them to Lions Club of California and Nevada to be donated.
URL:https://drplasticpicker.com/event/donate-your-old-prescription-glasses-and-sunglasses/
END:VEVENT
END:VCALENDAR